BEGIN:VCALENDAR
VERSION:2.0
PRODID:-//Europaschule Köln - ECPv6.15.13//NONSGML v1.0//EN
CALSCALE:GREGORIAN
METHOD:PUBLISH
X-WR-CALNAME:Europaschule Köln
X-ORIGINAL-URL:https://europaschulekoeln.eu
X-WR-CALDESC:Veranstaltungen für Europaschule Köln
REFRESH-INTERVAL;VALUE=DURATION:PT1H
X-Robots-Tag:noindex
X-PUBLISHED-TTL:PT1H
BEGIN:VTIMEZONE
TZID:Europe/Berlin
BEGIN:DAYLIGHT
TZOFFSETFROM:+0100
TZOFFSETTO:+0200
TZNAME:CEST
DTSTART:20250330T010000
END:DAYLIGHT
BEGIN:STANDARD
TZOFFSETFROM:+0200
TZOFFSETTO:+0100
TZNAME:CET
DTSTART:20251026T010000
END:STANDARD
BEGIN:DAYLIGHT
TZOFFSETFROM:+0100
TZOFFSETTO:+0200
TZNAME:CEST
DTSTART:20260329T010000
END:DAYLIGHT
BEGIN:STANDARD
TZOFFSETFROM:+0200
TZOFFSETTO:+0100
TZNAME:CET
DTSTART:20261025T010000
END:STANDARD
BEGIN:DAYLIGHT
TZOFFSETFROM:+0100
TZOFFSETTO:+0200
TZNAME:CEST
DTSTART:20270328T010000
END:DAYLIGHT
BEGIN:STANDARD
TZOFFSETFROM:+0200
TZOFFSETTO:+0100
TZNAME:CET
DTSTART:20271031T010000
END:STANDARD
END:VTIMEZONE
BEGIN:VEVENT
DTSTART;VALUE=DATE:20260419
DTEND;VALUE=DATE:20260425
DTSTAMP:20260424T015715
CREATED:20260216T112928Z
LAST-MODIFIED:20260216T112928Z
UID:139415-1776556800-1777075199@europaschulekoeln.eu
SUMMARY:Spanienaustausch (Jg 8)
DESCRIPTION:
URL:https://europaschulekoeln.eu/termin/spanienaustausch-jg-8/
CATEGORIES:Austausch
END:VEVENT
BEGIN:VEVENT
DTSTART;VALUE=DATE:20260420
DTEND;VALUE=DATE:20260425
DTSTAMP:20260424T015715
CREATED:20260216T113006Z
LAST-MODIFIED:20260216T113015Z
UID:139417-1776643200-1777075199@europaschulekoeln.eu
SUMMARY:Italienaustausch (Jg 8 / EF)
DESCRIPTION:
URL:https://europaschulekoeln.eu/termin/italienaustausch-jg-8/
CATEGORIES:Austausch
END:VEVENT
BEGIN:VEVENT
DTSTART;TZID=Europe/Berlin:20260424T090000
DTEND;TZID=Europe/Berlin:20260424T090000
DTSTAMP:20260424T015715
CREATED:20260216T112615Z
LAST-MODIFIED:20260216T112625Z
UID:139413-1777021200-1777021200@europaschulekoeln.eu
SUMMARY:Abiturklausur Chemie GK
DESCRIPTION:
URL:https://europaschulekoeln.eu/termin/abiturklausur-chemie-gk/
CATEGORIES:Prüfungen
END:VEVENT
END:VCALENDAR