BEGIN:VCALENDAR
VERSION:2.0
PRODID:-//Europaschule Köln - ECPv6.15.13//NONSGML v1.0//EN
CALSCALE:GREGORIAN
METHOD:PUBLISH
X-WR-CALNAME:Europaschule Köln
X-ORIGINAL-URL:https://europaschulekoeln.eu
X-WR-CALDESC:Veranstaltungen für Europaschule Köln
REFRESH-INTERVAL;VALUE=DURATION:PT1H
X-Robots-Tag:noindex
X-PUBLISHED-TTL:PT1H
BEGIN:VTIMEZONE
TZID:Europe/Berlin
BEGIN:DAYLIGHT
TZOFFSETFROM:+0100
TZOFFSETTO:+0200
TZNAME:CEST
DTSTART:20250330T010000
END:DAYLIGHT
BEGIN:STANDARD
TZOFFSETFROM:+0200
TZOFFSETTO:+0100
TZNAME:CET
DTSTART:20251026T010000
END:STANDARD
BEGIN:DAYLIGHT
TZOFFSETFROM:+0100
TZOFFSETTO:+0200
TZNAME:CEST
DTSTART:20260329T010000
END:DAYLIGHT
BEGIN:STANDARD
TZOFFSETFROM:+0200
TZOFFSETTO:+0100
TZNAME:CET
DTSTART:20261025T010000
END:STANDARD
BEGIN:DAYLIGHT
TZOFFSETFROM:+0100
TZOFFSETTO:+0200
TZNAME:CEST
DTSTART:20270328T010000
END:DAYLIGHT
BEGIN:STANDARD
TZOFFSETFROM:+0200
TZOFFSETTO:+0100
TZNAME:CET
DTSTART:20271031T010000
END:STANDARD
END:VTIMEZONE
BEGIN:VEVENT
DTSTART;VALUE=DATE:20260419
DTEND;VALUE=DATE:20260425
DTSTAMP:20260421T024201
CREATED:20260216T112928Z
LAST-MODIFIED:20260216T112928Z
UID:139415-1776556800-1777075199@europaschulekoeln.eu
SUMMARY:Spanienaustausch (Jg 8)
DESCRIPTION:
URL:https://europaschulekoeln.eu/termin/spanienaustausch-jg-8/
CATEGORIES:Austausch
END:VEVENT
BEGIN:VEVENT
DTSTART;VALUE=DATE:20260420
DTEND;VALUE=DATE:20260425
DTSTAMP:20260421T024201
CREATED:20260216T113006Z
LAST-MODIFIED:20260216T113015Z
UID:139417-1776643200-1777075199@europaschulekoeln.eu
SUMMARY:Italienaustausch (Jg 8 / EF)
DESCRIPTION:
URL:https://europaschulekoeln.eu/termin/italienaustausch-jg-8/
CATEGORIES:Austausch
END:VEVENT
BEGIN:VEVENT
DTSTART;VALUE=DATE:20260421
DTEND;VALUE=DATE:20260424
DTSTAMP:20260421T024201
CREATED:20250819T090704Z
LAST-MODIFIED:20250914T120342Z
UID:138431-1776729600-1776988799@europaschulekoeln.eu
SUMMARY:Zeitraum für Berufsfelderkundung ( (Jg 8)
DESCRIPTION:
URL:https://europaschulekoeln.eu/termin/zeitraum-fuer-fuer-berufsfelderkundungen/
CATEGORIES:Praktikum
END:VEVENT
BEGIN:VEVENT
DTSTART;TZID=Europe/Berlin:20260421T104500
DTEND;TZID=Europe/Berlin:20260421T132000
DTSTAMP:20260421T024201
CREATED:20260216T110914Z
LAST-MODIFIED:20260324T205552Z
UID:139394-1776768300-1776777600@europaschulekoeln.eu
SUMMARY:Aktion: Tag des Buches
DESCRIPTION:[vc_row][vc_column width=“1/2″][vc_single_image media=“133738″ media_width_percent=“100″ uncode_shortcode_id=“195316″][/vc_column][vc_column width=“1/2″][vc_single_image media=“133737″ media_width_percent=“100″ uncode_shortcode_id=“141357″][/vc_column][/vc_row][vc_row][vc_column width=“1/1″][vc_column_text uncode_shortcode_id=“211834″]Am Dienstag\, den 21.04.\, findet in der 4.–6. Stunde im Rahmen des Welttages des Buches ein klassenübergreifendes Projekt statt. Als Gemeinschaftsprodukt der Schulgemeinde entsteht ein gemeinsames Buch\, zu dem jede Klasse eine Seite gestaltet\, z.B. mit Hinweisen auf die schönsten Leseplätze\, Lieblingsbücher oder absolute Geheimtipps in der Welt des geschriebenen Wortes.[/vc_column_text][/vc_column][/vc_row]
URL:https://europaschulekoeln.eu/termin/aktion-tag-des-buches-2/
CATEGORIES:TOP,Aktionstag
END:VEVENT
BEGIN:VEVENT
DTSTART;TZID=Europe/Berlin:20260421T140000
DTEND;TZID=Europe/Berlin:20260421T140000
DTSTAMP:20260421T024201
CREATED:20260216T110801Z
LAST-MODIFIED:20260216T110801Z
UID:139392-1776780000-1776780000@europaschulekoeln.eu
SUMMARY:Dienstbesprechung Prüfungen 10
DESCRIPTION:[vc_row][vc_column width=“1/1″][vc_column_text uncode_shortcode_id=“184433″]in Raum 015[/vc_column_text][/vc_column][/vc_row]
URL:https://europaschulekoeln.eu/termin/dienstbesprechung-pruefungen-10/
CATEGORIES:Konferenz
END:VEVENT
BEGIN:VEVENT
DTSTART;TZID=Europe/Berlin:20260421T140000
DTEND;TZID=Europe/Berlin:20260421T140000
DTSTAMP:20260421T024201
CREATED:20260415T133524Z
LAST-MODIFIED:20260415T133524Z
UID:139840-1776780000-1776780000@europaschulekoeln.eu
SUMMARY:Treffen Ehemaligenfest/Jubiläumsfeier
DESCRIPTION:
URL:https://europaschulekoeln.eu/termin/treffen-ehemaligenfest-jubilaeumsfeier/
CATEGORIES:Konferenz
END:VEVENT
END:VCALENDAR